BEGIN:VCALENDAR
VERSION:2.0
PRODID:-//Northwest CSA - ECPv6.15.7//NONSGML v1.0//EN
CALSCALE:GREGORIAN
METHOD:PUBLISH
X-WR-CALNAME:Northwest CSA
X-ORIGINAL-URL:https://northwest-csa.org
X-WR-CALDESC:Events for Northwest CSA
REFRESH-INTERVAL;VALUE=DURATION:PT1H
X-Robots-Tag:noindex
X-PUBLISHED-TTL:PT1H
BEGIN:VTIMEZONE
TZID:America/Chicago
BEGIN:DAYLIGHT
TZOFFSETFROM:-0600
TZOFFSETTO:-0500
TZNAME:CDT
DTSTART:20240310T080000
END:DAYLIGHT
BEGIN:STANDARD
TZOFFSETFROM:-0500
TZOFFSETTO:-0600
TZNAME:CST
DTSTART:20241103T070000
END:STANDARD
BEGIN:DAYLIGHT
TZOFFSETFROM:-0600
TZOFFSETTO:-0500
TZNAME:CDT
DTSTART:20250309T080000
END:DAYLIGHT
BEGIN:STANDARD
TZOFFSETFROM:-0500
TZOFFSETTO:-0600
TZNAME:CST
DTSTART:20251102T070000
END:STANDARD
BEGIN:DAYLIGHT
TZOFFSETFROM:-0600
TZOFFSETTO:-0500
TZNAME:CDT
DTSTART:20260308T080000
END:DAYLIGHT
BEGIN:STANDARD
TZOFFSETFROM:-0500
TZOFFSETTO:-0600
TZNAME:CST
DTSTART:20261101T070000
END:STANDARD
END:VTIMEZONE
BEGIN:VEVENT
DTSTART;TZID=America/Chicago:20250203T090000
DTEND;TZID=America/Chicago:20250203T113000
DTSTAMP:20260421T050402
CREATED:20250109T153755Z
LAST-MODIFIED:20250109T190139Z
UID:3175-1738573200-1738582200@northwest-csa.org
SUMMARY:Food Distribution and Commodity Boxes
DESCRIPTION:
URL:https://northwest-csa.org/event/food-distribution-29/
LOCATION:NWCSA Main Office\, 1118 Tower Avenue\, Superior\, WI\, 54880\, United States
END:VEVENT
BEGIN:VEVENT
DTSTART;TZID=America/Chicago:20250203T091500
DTEND;TZID=America/Chicago:20250203T100000
DTSTAMP:20260421T050402
CREATED:20250109T200424Z
LAST-MODIFIED:20250109T200424Z
UID:3363-1738574100-1738576800@northwest-csa.org
SUMMARY:Adaptive Chair Exercise
DESCRIPTION:
URL:https://northwest-csa.org/event/adaptive-chair-exercise-35/
LOCATION:Lew Martin Senior Center\, 1527 Tower Avenue\, Superior\, WI\, 54880\, United States
END:VEVENT
BEGIN:VEVENT
DTSTART;TZID=America/Chicago:20250204T100000
DTEND;TZID=America/Chicago:20250204T110000
DTSTAMP:20260421T050402
CREATED:20250110T190700Z
LAST-MODIFIED:20250110T190700Z
UID:3410-1738663200-1738666800@northwest-csa.org
SUMMARY:Tai Chi
DESCRIPTION:
URL:https://northwest-csa.org/event/tai-chi-22/
LOCATION:Lew Martin Senior Center\, 1527 Tower Avenue\, Superior\, WI\, 54880\, United States
END:VEVENT
BEGIN:VEVENT
DTSTART;TZID=America/Chicago:20250205T091500
DTEND;TZID=America/Chicago:20250205T100000
DTSTAMP:20260421T050402
CREATED:20250110T201520Z
LAST-MODIFIED:20250110T201520Z
UID:3500-1738746900-1738749600@northwest-csa.org
SUMMARY:Adaptive Chair Exercise
DESCRIPTION:
URL:https://northwest-csa.org/event/adaptive-chair-exercise-57/
LOCATION:Lew Martin Senior Center\, 1527 Tower Avenue\, Superior\, WI\, 54880\, United States
END:VEVENT
BEGIN:VEVENT
DTSTART;TZID=America/Chicago:20250205T123000
DTEND;TZID=America/Chicago:20250205T150000
DTSTAMP:20260421T050402
CREATED:20250109T192458Z
LAST-MODIFIED:20250109T192458Z
UID:3325-1738758600-1738767600@northwest-csa.org
SUMMARY:Movie Wednesdays
DESCRIPTION:
URL:https://northwest-csa.org/event/movie-wednesdays-5/
LOCATION:Lew Martin Senior Center\, 1527 Tower Avenue\, Superior\, WI\, 54880\, United States
END:VEVENT
BEGIN:VEVENT
DTSTART;TZID=America/Chicago:20250206T090000
DTEND;TZID=America/Chicago:20250206T113000
DTSTAMP:20260421T050402
CREATED:20250109T153838Z
LAST-MODIFIED:20250109T190130Z
UID:3177-1738832400-1738841400@northwest-csa.org
SUMMARY:Food Distribution and Commodity Boxes
DESCRIPTION:
URL:https://northwest-csa.org/event/food-distribution-30/
LOCATION:NWCSA Main Office\, 1118 Tower Avenue\, Superior\, WI\, 54880\, United States
END:VEVENT
BEGIN:VEVENT
DTSTART;TZID=America/Chicago:20250206T100000
DTEND;TZID=America/Chicago:20250206T110000
DTSTAMP:20260421T050402
CREATED:20250110T192305Z
LAST-MODIFIED:20250110T192305Z
UID:3452-1738836000-1738839600@northwest-csa.org
SUMMARY:Tai Chi
DESCRIPTION:
URL:https://northwest-csa.org/event/tai-chi-43/
LOCATION:Lew Martin Senior Center\, 1527 Tower Avenue\, Superior\, WI\, 54880\, United States
END:VEVENT
BEGIN:VEVENT
DTSTART;TZID=America/Chicago:20250207T091500
DTEND;TZID=America/Chicago:20250207T100000
DTSTAMP:20260421T050402
CREATED:20250110T201602Z
LAST-MODIFIED:20250110T201602Z
UID:3502-1738919700-1738922400@northwest-csa.org
SUMMARY:Adaptive Chair Exercise
DESCRIPTION:
URL:https://northwest-csa.org/event/adaptive-chair-exercise-58/
LOCATION:Lew Martin Senior Center\, 1527 Tower Avenue\, Superior\, WI\, 54880\, United States
END:VEVENT
BEGIN:VEVENT
DTSTART;TZID=America/Chicago:20250210T090000
DTEND;TZID=America/Chicago:20250210T113000
DTSTAMP:20260421T050402
CREATED:20250109T153911Z
LAST-MODIFIED:20250109T190121Z
UID:3179-1739178000-1739187000@northwest-csa.org
SUMMARY:Food Distribution and Commodity Boxes
DESCRIPTION:
URL:https://northwest-csa.org/event/food-distribution-31/
LOCATION:NWCSA Main Office\, 1118 Tower Avenue\, Superior\, WI\, 54880\, United States
END:VEVENT
BEGIN:VEVENT
DTSTART;TZID=America/Chicago:20250210T091500
DTEND;TZID=America/Chicago:20250210T100000
DTSTAMP:20260421T050402
CREATED:20250109T200502Z
LAST-MODIFIED:20250109T200502Z
UID:3365-1739178900-1739181600@northwest-csa.org
SUMMARY:Adaptive Chair Exercise
DESCRIPTION:
URL:https://northwest-csa.org/event/adaptive-chair-exercise-36/
LOCATION:Lew Martin Senior Center\, 1527 Tower Avenue\, Superior\, WI\, 54880\, United States
END:VEVENT
BEGIN:VEVENT
DTSTART;TZID=America/Chicago:20250211T090000
DTEND;TZID=America/Chicago:20250211T100000
DTSTAMP:20260421T050402
CREATED:20250109T152916Z
LAST-MODIFIED:20250109T152916Z
UID:3155-1739264400-1739268000@northwest-csa.org
SUMMARY:Brighter Days Ahead Support Group
DESCRIPTION:
URL:https://northwest-csa.org/event/brighter-days-ahead-support-group-2/
LOCATION:Lew Martin Senior Center\, 1527 Tower Avenue\, Superior\, WI\, 54880\, United States
END:VEVENT
BEGIN:VEVENT
DTSTART;TZID=America/Chicago:20250211T100000
DTEND;TZID=America/Chicago:20250211T110000
DTSTAMP:20260421T050402
CREATED:20250110T190732Z
LAST-MODIFIED:20250110T190732Z
UID:3412-1739268000-1739271600@northwest-csa.org
SUMMARY:Tai Chi
DESCRIPTION:
URL:https://northwest-csa.org/event/tai-chi-23/
LOCATION:Lew Martin Senior Center\, 1527 Tower Avenue\, Superior\, WI\, 54880\, United States
END:VEVENT
BEGIN:VEVENT
DTSTART;TZID=America/Chicago:20250212T091500
DTEND;TZID=America/Chicago:20250212T100000
DTSTAMP:20260421T050402
CREATED:20250110T201644Z
LAST-MODIFIED:20250110T201644Z
UID:3504-1739351700-1739354400@northwest-csa.org
SUMMARY:Adaptive Chair Exercise
DESCRIPTION:
URL:https://northwest-csa.org/event/adaptive-chair-exercise-59/
LOCATION:Lew Martin Senior Center\, 1527 Tower Avenue\, Superior\, WI\, 54880\, United States
END:VEVENT
BEGIN:VEVENT
DTSTART;TZID=America/Chicago:20250213T090000
DTEND;TZID=America/Chicago:20250213T113000
DTSTAMP:20260421T050402
CREATED:20250109T153950Z
LAST-MODIFIED:20250109T190113Z
UID:3181-1739437200-1739446200@northwest-csa.org
SUMMARY:Food Distribution and Commodity Boxes
DESCRIPTION:
URL:https://northwest-csa.org/event/food-distribution-32/
LOCATION:NWCSA Main Office\, 1118 Tower Avenue\, Superior\, WI\, 54880\, United States
END:VEVENT
BEGIN:VEVENT
DTSTART;TZID=America/Chicago:20250213T100000
DTEND;TZID=America/Chicago:20250213T110000
DTSTAMP:20260421T050402
CREATED:20250110T192332Z
LAST-MODIFIED:20250110T192332Z
UID:3454-1739440800-1739444400@northwest-csa.org
SUMMARY:Tai Chi
DESCRIPTION:
URL:https://northwest-csa.org/event/tai-chi-44/
LOCATION:Lew Martin Senior Center\, 1527 Tower Avenue\, Superior\, WI\, 54880\, United States
END:VEVENT
BEGIN:VEVENT
DTSTART;TZID=America/Chicago:20250213T103000
DTEND;TZID=America/Chicago:20250213T120000
DTSTAMP:20260421T050402
CREATED:20250109T190813Z
LAST-MODIFIED:20250109T190813Z
UID:3290-1739442600-1739448000@northwest-csa.org
SUMMARY:Commodity Box Pick Up
DESCRIPTION:
URL:https://northwest-csa.org/event/commodity-box-pick-up-2/
LOCATION:Iron River Community Center\, 8275 East Mill Street\, Iron River\, WI\, 54847\, United States
END:VEVENT
BEGIN:VEVENT
DTSTART;TZID=America/Chicago:20250214T091500
DTEND;TZID=America/Chicago:20250214T100000
DTSTAMP:20260421T050402
CREATED:20250110T201726Z
LAST-MODIFIED:20250110T201726Z
UID:3506-1739524500-1739527200@northwest-csa.org
SUMMARY:Adaptive Chair Exercise
DESCRIPTION:
URL:https://northwest-csa.org/event/adaptive-chair-exercise-60/
LOCATION:Lew Martin Senior Center\, 1527 Tower Avenue\, Superior\, WI\, 54880\, United States
END:VEVENT
BEGIN:VEVENT
DTSTART;VALUE=DATE:20250217
DTEND;VALUE=DATE:20250218
DTSTAMP:20260421T050402
CREATED:20250109T160000Z
LAST-MODIFIED:20250109T160000Z
UID:3241-1739750400-1739836799@northwest-csa.org
SUMMARY:NWCSA Closed
DESCRIPTION:
URL:https://northwest-csa.org/event/nwcsa-closed-2/
LOCATION:All NWCSA Locations
END:VEVENT
BEGIN:VEVENT
DTSTART;TZID=America/Chicago:20250218T100000
DTEND;TZID=America/Chicago:20250218T110000
DTSTAMP:20260421T050402
CREATED:20250110T190806Z
LAST-MODIFIED:20250110T190806Z
UID:3414-1739872800-1739876400@northwest-csa.org
SUMMARY:Tai Chi
DESCRIPTION:
URL:https://northwest-csa.org/event/tai-chi-24/
LOCATION:Lew Martin Senior Center\, 1527 Tower Avenue\, Superior\, WI\, 54880\, United States
END:VEVENT
BEGIN:VEVENT
DTSTART;TZID=America/Chicago:20250218T140000
DTEND;TZID=America/Chicago:20250218T150000
DTSTAMP:20260421T050402
CREATED:20250109T191731Z
LAST-MODIFIED:20250109T191731Z
UID:3311-1739887200-1739890800@northwest-csa.org
SUMMARY:Free Bingo
DESCRIPTION:Joint Program with the Superior Public Library
URL:https://northwest-csa.org/event/free-bingo-2/
LOCATION:Lew Martin Senior Center\, 1527 Tower Avenue\, Superior\, WI\, 54880\, United States
END:VEVENT
BEGIN:VEVENT
DTSTART;TZID=America/Chicago:20250219T091500
DTEND;TZID=America/Chicago:20250219T100000
DTSTAMP:20260421T050402
CREATED:20250110T201810Z
LAST-MODIFIED:20250110T201810Z
UID:3508-1739956500-1739959200@northwest-csa.org
SUMMARY:Adaptive Chair Exercise
DESCRIPTION:
URL:https://northwest-csa.org/event/adaptive-chair-exercise-61/
LOCATION:Lew Martin Senior Center\, 1527 Tower Avenue\, Superior\, WI\, 54880\, United States
END:VEVENT
BEGIN:VEVENT
DTSTART;TZID=America/Chicago:20250219T123000
DTEND;TZID=America/Chicago:20250219T150000
DTSTAMP:20260421T050402
CREATED:20250109T192621Z
LAST-MODIFIED:20250109T192621Z
UID:3329-1739968200-1739977200@northwest-csa.org
SUMMARY:Movie Wednesdays
DESCRIPTION:
URL:https://northwest-csa.org/event/movie-wednesdays-7/
LOCATION:Lew Martin Senior Center\, 1527 Tower Avenue\, Superior\, WI\, 54880\, United States
END:VEVENT
BEGIN:VEVENT
DTSTART;TZID=America/Chicago:20250220T090000
DTEND;TZID=America/Chicago:20250220T113000
DTSTAMP:20260421T050402
CREATED:20250109T154028Z
LAST-MODIFIED:20250109T190104Z
UID:3183-1740042000-1740051000@northwest-csa.org
SUMMARY:Food Distribution and Commodity Boxes
DESCRIPTION:
URL:https://northwest-csa.org/event/food-distribution-33/
LOCATION:NWCSA Main Office\, 1118 Tower Avenue\, Superior\, WI\, 54880\, United States
END:VEVENT
BEGIN:VEVENT
DTSTART;TZID=America/Chicago:20250220T100000
DTEND;TZID=America/Chicago:20250220T110000
DTSTAMP:20260421T050402
CREATED:20250110T192414Z
LAST-MODIFIED:20250110T192414Z
UID:3456-1740045600-1740049200@northwest-csa.org
SUMMARY:Tai Chi
DESCRIPTION:
URL:https://northwest-csa.org/event/tai-chi-45/
LOCATION:Lew Martin Senior Center\, 1527 Tower Avenue\, Superior\, WI\, 54880\, United States
END:VEVENT
BEGIN:VEVENT
DTSTART;TZID=America/Chicago:20250221T091500
DTEND;TZID=America/Chicago:20250221T100000
DTSTAMP:20260421T050402
CREATED:20250110T201848Z
LAST-MODIFIED:20250110T201848Z
UID:3510-1740129300-1740132000@northwest-csa.org
SUMMARY:Adaptive Chair Exercise
DESCRIPTION:
URL:https://northwest-csa.org/event/adaptive-chair-exercise-62/
LOCATION:Lew Martin Senior Center\, 1527 Tower Avenue\, Superior\, WI\, 54880\, United States
END:VEVENT
BEGIN:VEVENT
DTSTART;TZID=America/Chicago:20250221T123000
DTEND;TZID=America/Chicago:20250221T140000
DTSTAMP:20260421T050402
CREATED:20250115T194749Z
LAST-MODIFIED:20250129T182827Z
UID:3599-1740141000-1740146400@northwest-csa.org
SUMMARY:Artificial Intelligence & IRS Safety Class
DESCRIPTION:
URL:https://northwest-csa.org/event/artificial-intelligence-irs-safety-class/
LOCATION:Lew Martin Senior Center\, 1527 Tower Avenue\, Superior\, WI\, 54880\, United States
END:VEVENT
BEGIN:VEVENT
DTSTART;TZID=America/Chicago:20250224T090000
DTEND;TZID=America/Chicago:20250224T113000
DTSTAMP:20260421T050402
CREATED:20250109T154106Z
LAST-MODIFIED:20250109T190058Z
UID:3185-1740387600-1740396600@northwest-csa.org
SUMMARY:Food Distribution and Commodity Boxes
DESCRIPTION:
URL:https://northwest-csa.org/event/food-distribution-34/
LOCATION:NWCSA Main Office\, 1118 Tower Avenue\, Superior\, WI\, 54880\, United States
END:VEVENT
BEGIN:VEVENT
DTSTART;TZID=America/Chicago:20250224T091500
DTEND;TZID=America/Chicago:20250224T100000
DTSTAMP:20260421T050402
CREATED:20250109T200545Z
LAST-MODIFIED:20250109T200545Z
UID:3367-1740388500-1740391200@northwest-csa.org
SUMMARY:Adaptive Chair Exercise
DESCRIPTION:
URL:https://northwest-csa.org/event/adaptive-chair-exercise-37/
LOCATION:Lew Martin Senior Center\, 1527 Tower Avenue\, Superior\, WI\, 54880\, United States
END:VEVENT
BEGIN:VEVENT
DTSTART;TZID=America/Chicago:20250225T100000
DTEND;TZID=America/Chicago:20250225T110000
DTSTAMP:20260421T050402
CREATED:20250110T190830Z
LAST-MODIFIED:20250110T190830Z
UID:3416-1740477600-1740481200@northwest-csa.org
SUMMARY:Tai Chi
DESCRIPTION:
URL:https://northwest-csa.org/event/tai-chi-25/
LOCATION:Lew Martin Senior Center\, 1527 Tower Avenue\, Superior\, WI\, 54880\, United States
END:VEVENT
BEGIN:VEVENT
DTSTART;TZID=America/Chicago:20250225T130000
DTEND;TZID=America/Chicago:20250225T150000
DTSTAMP:20260421T050402
CREATED:20250109T191318Z
LAST-MODIFIED:20250110T165157Z
UID:3301-1740488400-1740495600@northwest-csa.org
SUMMARY:Switch Sports
DESCRIPTION:
URL:https://northwest-csa.org/event/switch-bowling-league-4/
LOCATION:Lew Martin Senior Center\, 1527 Tower Avenue\, Superior\, WI\, 54880\, United States
END:VEVENT
END:VCALENDAR