BEGIN:VCALENDAR
VERSION:2.0
PRODID:-//Northwest CSA - ECPv6.15.7//NONSGML v1.0//EN
CALSCALE:GREGORIAN
METHOD:PUBLISH
X-ORIGINAL-URL:https://northwest-csa.org
X-WR-CALDESC:Events for Northwest CSA
REFRESH-INTERVAL;VALUE=DURATION:PT1H
X-Robots-Tag:noindex
X-PUBLISHED-TTL:PT1H
BEGIN:VTIMEZONE
TZID:America/Chicago
BEGIN:DAYLIGHT
TZOFFSETFROM:-0600
TZOFFSETTO:-0500
TZNAME:CDT
DTSTART:20240310T080000
END:DAYLIGHT
BEGIN:STANDARD
TZOFFSETFROM:-0500
TZOFFSETTO:-0600
TZNAME:CST
DTSTART:20241103T070000
END:STANDARD
BEGIN:DAYLIGHT
TZOFFSETFROM:-0600
TZOFFSETTO:-0500
TZNAME:CDT
DTSTART:20250309T080000
END:DAYLIGHT
BEGIN:STANDARD
TZOFFSETFROM:-0500
TZOFFSETTO:-0600
TZNAME:CST
DTSTART:20251102T070000
END:STANDARD
BEGIN:DAYLIGHT
TZOFFSETFROM:-0600
TZOFFSETTO:-0500
TZNAME:CDT
DTSTART:20260308T080000
END:DAYLIGHT
BEGIN:STANDARD
TZOFFSETFROM:-0500
TZOFFSETTO:-0600
TZNAME:CST
DTSTART:20261101T070000
END:STANDARD
END:VTIMEZONE
BEGIN:VEVENT
DTSTART;TZID=America/Chicago:20250401T100000
DTEND;TZID=America/Chicago:20250401T110000
DTSTAMP:20260421T080319
CREATED:20250110T191130Z
LAST-MODIFIED:20250110T191130Z
UID:3426-1743501600-1743505200@northwest-csa.org
SUMMARY:Tai Chi
DESCRIPTION:
URL:https://northwest-csa.org/event/tai-chi-30/
LOCATION:Lew Martin Senior Center\, 1527 Tower Avenue\, Superior\, WI\, 54880\, United States
END:VEVENT
BEGIN:VEVENT
DTSTART;TZID=America/Chicago:20250402T091500
DTEND;TZID=America/Chicago:20250402T100000
DTSTAMP:20260421T080319
CREATED:20250110T203046Z
LAST-MODIFIED:20250110T203046Z
UID:3532-1743585300-1743588000@northwest-csa.org
SUMMARY:Adaptive Chair Exercise
DESCRIPTION:
URL:https://northwest-csa.org/event/adaptive-chair-exercise-73/
LOCATION:Iron River Community Center\, 8275 East Mill Street\, Iron River\, WI\, 54847\, United States
END:VEVENT
BEGIN:VEVENT
DTSTART;TZID=America/Chicago:20250402T123000
DTEND;TZID=America/Chicago:20250402T150000
DTSTAMP:20260421T080319
CREATED:20250109T193007Z
LAST-MODIFIED:20250109T193007Z
UID:3341-1743597000-1743606000@northwest-csa.org
SUMMARY:Movie Wednesdays
DESCRIPTION:
URL:https://northwest-csa.org/event/movie-wednesdays-13/
LOCATION:Lew Martin Senior Center\, 1527 Tower Avenue\, Superior\, WI\, 54880\, United States
END:VEVENT
BEGIN:VEVENT
DTSTART;TZID=America/Chicago:20250403T090000
DTEND;TZID=America/Chicago:20250403T113000
DTSTAMP:20260421T080319
CREATED:20250109T154732Z
LAST-MODIFIED:20250109T185818Z
UID:3207-1743670800-1743679800@northwest-csa.org
SUMMARY:Food Distribution and Commodity Boxes
DESCRIPTION:
URL:https://northwest-csa.org/event/food-distribution-45/
LOCATION:NWCSA Main Office\, 1118 Tower Avenue\, Superior\, WI\, 54880\, United States
END:VEVENT
BEGIN:VEVENT
DTSTART;TZID=America/Chicago:20250403T100000
DTEND;TZID=America/Chicago:20250403T110000
DTSTAMP:20260421T080319
CREATED:20250110T192816Z
LAST-MODIFIED:20250110T192816Z
UID:3468-1743674400-1743678000@northwest-csa.org
SUMMARY:Tai Chi
DESCRIPTION:
URL:https://northwest-csa.org/event/tai-chi-51/
LOCATION:Lew Martin Senior Center\, 1527 Tower Avenue\, Superior\, WI\, 54880\, United States
END:VEVENT
BEGIN:VEVENT
DTSTART;TZID=America/Chicago:20250404T091500
DTEND;TZID=America/Chicago:20250404T100000
DTSTAMP:20260421T080319
CREATED:20250110T203128Z
LAST-MODIFIED:20250110T203128Z
UID:3534-1743758100-1743760800@northwest-csa.org
SUMMARY:Adaptive Chair Exercise
DESCRIPTION:
URL:https://northwest-csa.org/event/adaptive-chair-exercise-74/
LOCATION:Lew Martin Senior Center\, 1527 Tower Avenue\, Superior\, WI\, 54880\, United States
END:VEVENT
BEGIN:VEVENT
DTSTART;TZID=America/Chicago:20250407T090000
DTEND;TZID=America/Chicago:20250407T113000
DTSTAMP:20260421T080319
CREATED:20250109T154808Z
LAST-MODIFIED:20250109T185808Z
UID:3209-1744016400-1744025400@northwest-csa.org
SUMMARY:Food Distribution and Commodity Boxes
DESCRIPTION:
URL:https://northwest-csa.org/event/food-distribution-46/
LOCATION:NWCSA Main Office\, 1118 Tower Avenue\, Superior\, WI\, 54880\, United States
END:VEVENT
BEGIN:VEVENT
DTSTART;TZID=America/Chicago:20250407T091500
DTEND;TZID=America/Chicago:20250407T100000
DTSTAMP:20260421T080319
CREATED:20250109T201031Z
LAST-MODIFIED:20250109T201031Z
UID:3379-1744017300-1744020000@northwest-csa.org
SUMMARY:Adaptive Chair Exercise
DESCRIPTION:
URL:https://northwest-csa.org/event/adaptive-chair-exercise-43/
LOCATION:Lew Martin Senior Center\, 1527 Tower Avenue\, Superior\, WI\, 54880\, United States
END:VEVENT
BEGIN:VEVENT
DTSTART;TZID=America/Chicago:20250408T090000
DTEND;TZID=America/Chicago:20250408T100000
DTSTAMP:20260421T080319
CREATED:20250109T153107Z
LAST-MODIFIED:20250109T153107Z
UID:3159-1744102800-1744106400@northwest-csa.org
SUMMARY:Brighter Days Ahead Support Group
DESCRIPTION:
URL:https://northwest-csa.org/event/brighter-days-ahead-support-group-4/
LOCATION:Lew Martin Senior Center\, 1527 Tower Avenue\, Superior\, WI\, 54880\, United States
END:VEVENT
BEGIN:VEVENT
DTSTART;TZID=America/Chicago:20250408T100000
DTEND;TZID=America/Chicago:20250408T110000
DTSTAMP:20260421T080319
CREATED:20250110T191210Z
LAST-MODIFIED:20250110T191210Z
UID:3428-1744106400-1744110000@northwest-csa.org
SUMMARY:Tai Chi
DESCRIPTION:
URL:https://northwest-csa.org/event/tai-chi-31/
LOCATION:Lew Martin Senior Center\, 1527 Tower Avenue\, Superior\, WI\, 54880\, United States
END:VEVENT
BEGIN:VEVENT
DTSTART;TZID=America/Chicago:20250409T091500
DTEND;TZID=America/Chicago:20250409T100000
DTSTAMP:20260421T080319
CREATED:20250110T203211Z
LAST-MODIFIED:20250110T203211Z
UID:3536-1744190100-1744192800@northwest-csa.org
SUMMARY:Adaptive Chair Exercise
DESCRIPTION:
URL:https://northwest-csa.org/event/adaptive-chair-exercise-75/
LOCATION:Lew Martin Senior Center\, 1527 Tower Avenue\, Superior\, WI\, 54880\, United States
END:VEVENT
BEGIN:VEVENT
DTSTART;TZID=America/Chicago:20250409T123000
DTEND;TZID=America/Chicago:20250409T150000
DTSTAMP:20260421T080319
CREATED:20250109T193050Z
LAST-MODIFIED:20250109T193050Z
UID:3343-1744201800-1744210800@northwest-csa.org
SUMMARY:Movie Wednesdays
DESCRIPTION:
URL:https://northwest-csa.org/event/movie-wednesdays-14/
LOCATION:Lew Martin Senior Center\, 1527 Tower Avenue\, Superior\, WI\, 54880\, United States
END:VEVENT
BEGIN:VEVENT
DTSTART;TZID=America/Chicago:20250410T090000
DTEND;TZID=America/Chicago:20250410T113000
DTSTAMP:20260421T080319
CREATED:20250109T154839Z
LAST-MODIFIED:20250109T185758Z
UID:3211-1744275600-1744284600@northwest-csa.org
SUMMARY:Food Distribution and Commodity Boxes
DESCRIPTION:
URL:https://northwest-csa.org/event/food-distribution-47/
LOCATION:NWCSA Main Office\, 1118 Tower Avenue\, Superior\, WI\, 54880\, United States
END:VEVENT
BEGIN:VEVENT
DTSTART;TZID=America/Chicago:20250410T100000
DTEND;TZID=America/Chicago:20250410T110000
DTSTAMP:20260421T080319
CREATED:20250110T192853Z
LAST-MODIFIED:20250110T192853Z
UID:3470-1744279200-1744282800@northwest-csa.org
SUMMARY:Tai Chi
DESCRIPTION:
URL:https://northwest-csa.org/event/tai-chi-52/
LOCATION:Lew Martin Senior Center\, 1527 Tower Avenue\, Superior\, WI\, 54880\, United States
END:VEVENT
BEGIN:VEVENT
DTSTART;TZID=America/Chicago:20250410T103000
DTEND;TZID=America/Chicago:20250410T120000
DTSTAMP:20260421T080319
CREATED:20250109T190917Z
LAST-MODIFIED:20250109T190917Z
UID:3294-1744281000-1744286400@northwest-csa.org
SUMMARY:Commodity Box Pick Up
DESCRIPTION:
URL:https://northwest-csa.org/event/commodity-box-pick-up-4/
LOCATION:Iron River Community Center\, 8275 East Mill Street\, Iron River\, WI\, 54847\, United States
END:VEVENT
BEGIN:VEVENT
DTSTART;TZID=America/Chicago:20250411T091500
DTEND;TZID=America/Chicago:20250411T100000
DTSTAMP:20260421T080319
CREATED:20250110T203249Z
LAST-MODIFIED:20250110T203249Z
UID:3538-1744362900-1744365600@northwest-csa.org
SUMMARY:Adaptive Chair Exercise
DESCRIPTION:
URL:https://northwest-csa.org/event/adaptive-chair-exercise-76/
LOCATION:Lew Martin Senior Center\, 1527 Tower Avenue\, Superior\, WI\, 54880\, United States
END:VEVENT
BEGIN:VEVENT
DTSTART;TZID=America/Chicago:20250414T090000
DTEND;TZID=America/Chicago:20250414T113000
DTSTAMP:20260421T080319
CREATED:20250109T154914Z
LAST-MODIFIED:20250109T185751Z
UID:3213-1744621200-1744630200@northwest-csa.org
SUMMARY:Food Distribution and Commodity Boxes
DESCRIPTION:
URL:https://northwest-csa.org/event/food-distribution-48/
LOCATION:NWCSA Main Office\, 1118 Tower Avenue\, Superior\, WI\, 54880\, United States
END:VEVENT
BEGIN:VEVENT
DTSTART;TZID=America/Chicago:20250414T091500
DTEND;TZID=America/Chicago:20250414T100000
DTSTAMP:20260421T080319
CREATED:20250109T201107Z
LAST-MODIFIED:20250109T201107Z
UID:3381-1744622100-1744624800@northwest-csa.org
SUMMARY:Adaptive Chair Exercise
DESCRIPTION:
URL:https://northwest-csa.org/event/adaptive-chair-exercise-44/
LOCATION:Lew Martin Senior Center\, 1527 Tower Avenue\, Superior\, WI\, 54880\, United States
END:VEVENT
BEGIN:VEVENT
DTSTART;TZID=America/Chicago:20250415T100000
DTEND;TZID=America/Chicago:20250415T110000
DTSTAMP:20260421T080319
CREATED:20250110T191239Z
LAST-MODIFIED:20250110T191239Z
UID:3430-1744711200-1744714800@northwest-csa.org
SUMMARY:Tai Chi
DESCRIPTION:
URL:https://northwest-csa.org/event/tai-chi-32/
LOCATION:Lew Martin Senior Center\, 1527 Tower Avenue\, Superior\, WI\, 54880\, United States
END:VEVENT
BEGIN:VEVENT
DTSTART;TZID=America/Chicago:20250415T140000
DTEND;TZID=America/Chicago:20250415T150000
DTSTAMP:20260421T080319
CREATED:20250109T191848Z
LAST-MODIFIED:20250109T191848Z
UID:3315-1744725600-1744729200@northwest-csa.org
SUMMARY:Free Bingo
DESCRIPTION:Joint Program with the Superior Public Library
URL:https://northwest-csa.org/event/free-bingo-4/
LOCATION:Lew Martin Senior Center\, 1527 Tower Avenue\, Superior\, WI\, 54880\, United States
END:VEVENT
BEGIN:VEVENT
DTSTART;TZID=America/Chicago:20250416T091500
DTEND;TZID=America/Chicago:20250416T100000
DTSTAMP:20260421T080319
CREATED:20250110T203330Z
LAST-MODIFIED:20250110T203330Z
UID:3540-1744794900-1744797600@northwest-csa.org
SUMMARY:Adaptive Chair Exercise
DESCRIPTION:
URL:https://northwest-csa.org/event/adaptive-chair-exercise-77/
LOCATION:Lew Martin Senior Center\, 1527 Tower Avenue\, Superior\, WI\, 54880\, United States
END:VEVENT
BEGIN:VEVENT
DTSTART;TZID=America/Chicago:20250416T123000
DTEND;TZID=America/Chicago:20250416T150000
DTSTAMP:20260421T080319
CREATED:20250109T193210Z
LAST-MODIFIED:20250109T193210Z
UID:3345-1744806600-1744815600@northwest-csa.org
SUMMARY:Movie Wednesdays
DESCRIPTION:
URL:https://northwest-csa.org/event/movie-wednesdays-15/
LOCATION:Lew Martin Senior Center\, 1527 Tower Avenue\, Superior\, WI\, 54880\, United States
END:VEVENT
BEGIN:VEVENT
DTSTART;TZID=America/Chicago:20250417T090000
DTEND;TZID=America/Chicago:20250417T113000
DTSTAMP:20260421T080319
CREATED:20250109T154955Z
LAST-MODIFIED:20250109T185743Z
UID:3215-1744880400-1744889400@northwest-csa.org
SUMMARY:Food Distribution and Commodity Boxes
DESCRIPTION:
URL:https://northwest-csa.org/event/food-distribution-49/
LOCATION:NWCSA Main Office\, 1118 Tower Avenue\, Superior\, WI\, 54880\, United States
END:VEVENT
BEGIN:VEVENT
DTSTART;TZID=America/Chicago:20250417T100000
DTEND;TZID=America/Chicago:20250417T110000
DTSTAMP:20260421T080319
CREATED:20250110T192925Z
LAST-MODIFIED:20250110T192925Z
UID:3472-1744884000-1744887600@northwest-csa.org
SUMMARY:Tai Chi
DESCRIPTION:
URL:https://northwest-csa.org/event/tai-chi-53/
LOCATION:Lew Martin Senior Center\, 1527 Tower Avenue\, Superior\, WI\, 54880\, United States
END:VEVENT
BEGIN:VEVENT
DTSTART;TZID=America/Chicago:20250418T091500
DTEND;TZID=America/Chicago:20250418T100000
DTSTAMP:20260421T080319
CREATED:20250110T203408Z
LAST-MODIFIED:20250110T203408Z
UID:3542-1744967700-1744970400@northwest-csa.org
SUMMARY:Adaptive Chair Exercise
DESCRIPTION:
URL:https://northwest-csa.org/event/adaptive-chair-exercise-78/
LOCATION:Lew Martin Senior Center\, 1527 Tower Avenue\, Superior\, WI\, 54880\, United States
END:VEVENT
BEGIN:VEVENT
DTSTART;TZID=America/Chicago:20250421T090000
DTEND;TZID=America/Chicago:20250421T113000
DTSTAMP:20260421T080319
CREATED:20250109T155030Z
LAST-MODIFIED:20250109T185734Z
UID:3217-1745226000-1745235000@northwest-csa.org
SUMMARY:Food Distribution and Commodity Boxes
DESCRIPTION:
URL:https://northwest-csa.org/event/food-distribution-50/
LOCATION:NWCSA Main Office\, 1118 Tower Avenue\, Superior\, WI\, 54880\, United States
END:VEVENT
BEGIN:VEVENT
DTSTART;TZID=America/Chicago:20250421T091500
DTEND;TZID=America/Chicago:20250421T100000
DTSTAMP:20260421T080319
CREATED:20250109T201147Z
LAST-MODIFIED:20250109T201147Z
UID:3383-1745226900-1745229600@northwest-csa.org
SUMMARY:Adaptive Chair Exercise
DESCRIPTION:
URL:https://northwest-csa.org/event/adaptive-chair-exercise-45/
LOCATION:Lew Martin Senior Center\, 1527 Tower Avenue\, Superior\, WI\, 54880\, United States
END:VEVENT
BEGIN:VEVENT
DTSTART;TZID=America/Chicago:20250422T100000
DTEND;TZID=America/Chicago:20250422T110000
DTSTAMP:20260421T080319
CREATED:20250110T191630Z
LAST-MODIFIED:20250110T191630Z
UID:3432-1745316000-1745319600@northwest-csa.org
SUMMARY:Tai Chi
DESCRIPTION:
URL:https://northwest-csa.org/event/tai-chi-33/
LOCATION:Lew Martin Senior Center\, 1527 Tower Avenue\, Superior\, WI\, 54880\, United States
END:VEVENT
BEGIN:VEVENT
DTSTART;TZID=America/Chicago:20250422T130000
DTEND;TZID=America/Chicago:20250422T150000
DTSTAMP:20260421T080319
CREATED:20250109T191429Z
LAST-MODIFIED:20250110T165118Z
UID:3305-1745326800-1745334000@northwest-csa.org
SUMMARY:Switch Sports
DESCRIPTION:
URL:https://northwest-csa.org/event/switch-bowling-league-6/
LOCATION:Lew Martin Senior Center\, 1527 Tower Avenue\, Superior\, WI\, 54880\, United States
END:VEVENT
BEGIN:VEVENT
DTSTART;TZID=America/Chicago:20250423T091500
DTEND;TZID=America/Chicago:20250423T100000
DTSTAMP:20260421T080319
CREATED:20250110T203453Z
LAST-MODIFIED:20250110T203453Z
UID:3544-1745399700-1745402400@northwest-csa.org
SUMMARY:Adaptive Chair Exercise
DESCRIPTION:
URL:https://northwest-csa.org/event/adaptive-chair-exercise-79/
LOCATION:Lew Martin Senior Center\, 1527 Tower Avenue\, Superior\, WI\, 54880\, United States
END:VEVENT
END:VCALENDAR