BEGIN:VCALENDAR
VERSION:2.0
PRODID:-//Northwest CSA - ECPv6.15.7//NONSGML v1.0//EN
CALSCALE:GREGORIAN
METHOD:PUBLISH
X-ORIGINAL-URL:https://northwest-csa.org
X-WR-CALDESC:Events for Northwest CSA
REFRESH-INTERVAL;VALUE=DURATION:PT1H
X-Robots-Tag:noindex
X-PUBLISHED-TTL:PT1H
BEGIN:VTIMEZONE
TZID:America/Chicago
BEGIN:DAYLIGHT
TZOFFSETFROM:-0600
TZOFFSETTO:-0500
TZNAME:CDT
DTSTART:20240310T080000
END:DAYLIGHT
BEGIN:STANDARD
TZOFFSETFROM:-0500
TZOFFSETTO:-0600
TZNAME:CST
DTSTART:20241103T070000
END:STANDARD
BEGIN:DAYLIGHT
TZOFFSETFROM:-0600
TZOFFSETTO:-0500
TZNAME:CDT
DTSTART:20250309T080000
END:DAYLIGHT
BEGIN:STANDARD
TZOFFSETFROM:-0500
TZOFFSETTO:-0600
TZNAME:CST
DTSTART:20251102T070000
END:STANDARD
BEGIN:DAYLIGHT
TZOFFSETFROM:-0600
TZOFFSETTO:-0500
TZNAME:CDT
DTSTART:20260308T080000
END:DAYLIGHT
BEGIN:STANDARD
TZOFFSETFROM:-0500
TZOFFSETTO:-0600
TZNAME:CST
DTSTART:20261101T070000
END:STANDARD
END:VTIMEZONE
BEGIN:VEVENT
DTSTART;TZID=America/Chicago:20250501T090000
DTEND;TZID=America/Chicago:20250501T113000
DTSTAMP:20260421T093829
CREATED:20250109T155434Z
LAST-MODIFIED:20250109T185705Z
UID:3223-1746090000-1746099000@northwest-csa.org
SUMMARY:Food Distribution and Commodity Boxes
DESCRIPTION:
URL:https://northwest-csa.org/event/food-distribution-53/
LOCATION:NWCSA Ashland Office\, 623 Second Avenue East\, Ashland\, WI\, 54806\, United States
END:VEVENT
BEGIN:VEVENT
DTSTART;TZID=America/Chicago:20250501T100000
DTEND;TZID=America/Chicago:20250501T110000
DTSTAMP:20260421T093829
CREATED:20250110T193040Z
LAST-MODIFIED:20250110T193040Z
UID:3476-1746093600-1746097200@northwest-csa.org
SUMMARY:Tai Chi
DESCRIPTION:
URL:https://northwest-csa.org/event/tai-chi-55/
LOCATION:Lew Martin Senior Center\, 1527 Tower Avenue\, Superior\, WI\, 54880\, United States
END:VEVENT
BEGIN:VEVENT
DTSTART;TZID=America/Chicago:20250502T091500
DTEND;TZID=America/Chicago:20250502T100000
DTSTAMP:20260421T093829
CREATED:20250110T203623Z
LAST-MODIFIED:20250110T203623Z
UID:3548-1746177300-1746180000@northwest-csa.org
SUMMARY:Adaptive Chair Exercise
DESCRIPTION:
URL:https://northwest-csa.org/event/adaptive-chair-exercise-81/
LOCATION:Lew Martin Senior Center\, 1527 Tower Avenue\, Superior\, WI\, 54880\, United States
END:VEVENT
BEGIN:VEVENT
DTSTART;TZID=America/Chicago:20250505T090000
DTEND;TZID=America/Chicago:20250505T113000
DTSTAMP:20260421T093829
CREATED:20250109T155507Z
LAST-MODIFIED:20250109T185656Z
UID:3225-1746435600-1746444600@northwest-csa.org
SUMMARY:Food Distribution and Commodity Boxes
DESCRIPTION:
URL:https://northwest-csa.org/event/food-distribution-54/
LOCATION:NWCSA Main Office\, 1118 Tower Avenue\, Superior\, WI\, 54880\, United States
END:VEVENT
BEGIN:VEVENT
DTSTART;TZID=America/Chicago:20250505T091500
DTEND;TZID=America/Chicago:20250505T100000
DTSTAMP:20260421T093829
CREATED:20250109T201259Z
LAST-MODIFIED:20250109T201259Z
UID:3387-1746436500-1746439200@northwest-csa.org
SUMMARY:Adaptive Chair Exercise
DESCRIPTION:
URL:https://northwest-csa.org/event/adaptive-chair-exercise-47/
LOCATION:Lew Martin Senior Center\, 1527 Tower Avenue\, Superior\, WI\, 54880\, United States
END:VEVENT
BEGIN:VEVENT
DTSTART;TZID=America/Chicago:20250506T100000
DTEND;TZID=America/Chicago:20250506T110000
DTSTAMP:20260421T093829
CREATED:20250110T191733Z
LAST-MODIFIED:20250110T191733Z
UID:3436-1746525600-1746529200@northwest-csa.org
SUMMARY:Tai Chi
DESCRIPTION:
URL:https://northwest-csa.org/event/tai-chi-35/
LOCATION:Lew Martin Senior Center\, 1527 Tower Avenue\, Superior\, WI\, 54880\, United States
END:VEVENT
BEGIN:VEVENT
DTSTART;TZID=America/Chicago:20250507T091500
DTEND;TZID=America/Chicago:20250507T100000
DTSTAMP:20260421T093829
CREATED:20250110T203702Z
LAST-MODIFIED:20250110T203702Z
UID:3550-1746609300-1746612000@northwest-csa.org
SUMMARY:Adaptive Chair Exercise
DESCRIPTION:
URL:https://northwest-csa.org/event/adaptive-chair-exercise-82/
LOCATION:Lew Martin Senior Center\, 1527 Tower Avenue\, Superior\, WI\, 54880\, United States
END:VEVENT
BEGIN:VEVENT
DTSTART;TZID=America/Chicago:20250507T123000
DTEND;TZID=America/Chicago:20250507T150000
DTSTAMP:20260421T093829
CREATED:20250109T193356Z
LAST-MODIFIED:20250109T193356Z
UID:3351-1746621000-1746630000@northwest-csa.org
SUMMARY:Movie Wednesdays
DESCRIPTION:
URL:https://northwest-csa.org/event/movie-wednesdays-18/
LOCATION:Lew Martin Senior Center\, 1527 Tower Avenue\, Superior\, WI\, 54880\, United States
END:VEVENT
BEGIN:VEVENT
DTSTART;TZID=America/Chicago:20250508T090000
DTEND;TZID=America/Chicago:20250508T113000
DTSTAMP:20260421T093829
CREATED:20250109T155538Z
LAST-MODIFIED:20250109T185648Z
UID:3227-1746694800-1746703800@northwest-csa.org
SUMMARY:Food Distribution and Commodity Boxes
DESCRIPTION:
URL:https://northwest-csa.org/event/food-distribution-55/
LOCATION:NWCSA Main Office\, 1118 Tower Avenue\, Superior\, WI\, 54880\, United States
END:VEVENT
BEGIN:VEVENT
DTSTART;TZID=America/Chicago:20250508T100000
DTEND;TZID=America/Chicago:20250508T110000
DTSTAMP:20260421T093829
CREATED:20250110T193221Z
LAST-MODIFIED:20250110T193221Z
UID:3478-1746698400-1746702000@northwest-csa.org
SUMMARY:Tai Chi
DESCRIPTION:
URL:https://northwest-csa.org/event/tai-chi-56/
LOCATION:Lew Martin Senior Center\, 1527 Tower Avenue\, Superior\, WI\, 54880\, United States
END:VEVENT
BEGIN:VEVENT
DTSTART;TZID=America/Chicago:20250508T103000
DTEND;TZID=America/Chicago:20250508T120000
DTSTAMP:20260421T093829
CREATED:20250109T190949Z
LAST-MODIFIED:20250109T190949Z
UID:3296-1746700200-1746705600@northwest-csa.org
SUMMARY:Commodity Box Pick Up
DESCRIPTION:
URL:https://northwest-csa.org/event/commodity-box-pick-up-5/
LOCATION:Iron River Community Center\, 8275 East Mill Street\, Iron River\, WI\, 54847\, United States
END:VEVENT
BEGIN:VEVENT
DTSTART;TZID=America/Chicago:20250509T091500
DTEND;TZID=America/Chicago:20250509T100000
DTSTAMP:20260421T093829
CREATED:20250110T203831Z
LAST-MODIFIED:20250110T203831Z
UID:3554-1746782100-1746784800@northwest-csa.org
SUMMARY:Adaptive Chair Exercise
DESCRIPTION:
URL:https://northwest-csa.org/event/adaptive-chair-exercise-84/
LOCATION:Lew Martin Senior Center\, 1527 Tower Avenue\, Superior\, WI\, 54880\, United States
END:VEVENT
BEGIN:VEVENT
DTSTART;TZID=America/Chicago:20250512T090000
DTEND;TZID=America/Chicago:20250512T113000
DTSTAMP:20260421T093829
CREATED:20250109T155616Z
LAST-MODIFIED:20250109T185638Z
UID:3229-1747040400-1747049400@northwest-csa.org
SUMMARY:Food Distribution and Commodity Boxes
DESCRIPTION:
URL:https://northwest-csa.org/event/food-distribution-56/
LOCATION:NWCSA Main Office\, 1118 Tower Avenue\, Superior\, WI\, 54880\, United States
END:VEVENT
BEGIN:VEVENT
DTSTART;TZID=America/Chicago:20250512T091500
DTEND;TZID=America/Chicago:20250512T100000
DTSTAMP:20260421T093829
CREATED:20250109T201350Z
LAST-MODIFIED:20250109T201350Z
UID:3389-1747041300-1747044000@northwest-csa.org
SUMMARY:Adaptive Chair Exercise
DESCRIPTION:
URL:https://northwest-csa.org/event/adaptive-chair-exercise-48/
LOCATION:Lew Martin Senior Center\, 1527 Tower Avenue\, Superior\, WI\, 54880\, United States
END:VEVENT
BEGIN:VEVENT
DTSTART;TZID=America/Chicago:20250513T090000
DTEND;TZID=America/Chicago:20250513T100000
DTSTAMP:20260421T093829
CREATED:20250109T153147Z
LAST-MODIFIED:20250109T153147Z
UID:3161-1747126800-1747130400@northwest-csa.org
SUMMARY:Brighter Days Ahead Support Group
DESCRIPTION:
URL:https://northwest-csa.org/event/brighter-days-ahead-support-group-5/
LOCATION:Lew Martin Senior Center\, 1527 Tower Avenue\, Superior\, WI\, 54880\, United States
END:VEVENT
BEGIN:VEVENT
DTSTART;TZID=America/Chicago:20250513T110000
DTEND;TZID=America/Chicago:20250513T110000
DTSTAMP:20260421T093829
CREATED:20250110T191809Z
LAST-MODIFIED:20250110T191809Z
UID:3438-1747134000-1747134000@northwest-csa.org
SUMMARY:Tai Chi
DESCRIPTION:
URL:https://northwest-csa.org/event/tai-chi-36/
LOCATION:Lew Martin Senior Center\, 1527 Tower Avenue\, Superior\, WI\, 54880\, United States
END:VEVENT
BEGIN:VEVENT
DTSTART;TZID=America/Chicago:20250514T091500
DTEND;TZID=America/Chicago:20250514T100000
DTSTAMP:20260421T093829
CREATED:20250110T203746Z
LAST-MODIFIED:20250110T203746Z
UID:3552-1747214100-1747216800@northwest-csa.org
SUMMARY:Adaptive Chair Exercise
DESCRIPTION:
URL:https://northwest-csa.org/event/adaptive-chair-exercise-83/
LOCATION:Lew Martin Senior Center\, 1527 Tower Avenue\, Superior\, WI\, 54880\, United States
END:VEVENT
BEGIN:VEVENT
DTSTART;TZID=America/Chicago:20250514T123000
DTEND;TZID=America/Chicago:20250514T150000
DTSTAMP:20260421T093829
CREATED:20250109T193431Z
LAST-MODIFIED:20250109T193431Z
UID:3353-1747225800-1747234800@northwest-csa.org
SUMMARY:Movie Wednesdays
DESCRIPTION:
URL:https://northwest-csa.org/event/movie-wednesdays-19/
LOCATION:Lew Martin Senior Center\, 1527 Tower Avenue\, Superior\, WI\, 54880\, United States
END:VEVENT
BEGIN:VEVENT
DTSTART;TZID=America/Chicago:20250515T090000
DTEND;TZID=America/Chicago:20250515T113000
DTSTAMP:20260421T093829
CREATED:20250109T155649Z
LAST-MODIFIED:20250109T185628Z
UID:3231-1747299600-1747308600@northwest-csa.org
SUMMARY:Food Distribution and Commodity Boxes
DESCRIPTION:
URL:https://northwest-csa.org/event/food-distribution-57/
LOCATION:NWCSA Main Office\, 1118 Tower Avenue\, Superior\, WI\, 54880\, United States
END:VEVENT
BEGIN:VEVENT
DTSTART;TZID=America/Chicago:20250515T100000
DTEND;TZID=America/Chicago:20250515T110000
DTSTAMP:20260421T093829
CREATED:20250110T193251Z
LAST-MODIFIED:20250110T193251Z
UID:3480-1747303200-1747306800@northwest-csa.org
SUMMARY:Tai Chi
DESCRIPTION:
URL:https://northwest-csa.org/event/tai-chi-57/
LOCATION:Lew Martin Senior Center\, 1527 Tower Avenue\, Superior\, WI\, 54880\, United States
END:VEVENT
BEGIN:VEVENT
DTSTART;TZID=America/Chicago:20250516T091500
DTEND;TZID=America/Chicago:20250516T100000
DTSTAMP:20260421T093829
CREATED:20250110T203913Z
LAST-MODIFIED:20250110T203913Z
UID:3556-1747386900-1747389600@northwest-csa.org
SUMMARY:Adaptive Chair Exercise
DESCRIPTION:
URL:https://northwest-csa.org/event/adaptive-chair-exercise-85/
LOCATION:Lew Martin Senior Center\, 1527 Tower Avenue\, Superior\, WI\, 54880\, United States
END:VEVENT
BEGIN:VEVENT
DTSTART;TZID=America/Chicago:20250519T090000
DTEND;TZID=America/Chicago:20250519T113000
DTSTAMP:20260421T093829
CREATED:20250109T155718Z
LAST-MODIFIED:20250109T185619Z
UID:3233-1747645200-1747654200@northwest-csa.org
SUMMARY:Food Distribution and Commodity Boxes
DESCRIPTION:
URL:https://northwest-csa.org/event/food-distribution-58/
LOCATION:NWCSA Main Office\, 1118 Tower Avenue\, Superior\, WI\, 54880\, United States
END:VEVENT
BEGIN:VEVENT
DTSTART;TZID=America/Chicago:20250519T091500
DTEND;TZID=America/Chicago:20250519T100000
DTSTAMP:20260421T093829
CREATED:20250109T201439Z
LAST-MODIFIED:20250109T201439Z
UID:3391-1747646100-1747648800@northwest-csa.org
SUMMARY:Adaptive Chair Exercise
DESCRIPTION:
URL:https://northwest-csa.org/event/adaptive-chair-exercise-49/
LOCATION:Lew Martin Senior Center\, 1527 Tower Avenue\, Superior\, WI\, 54880\, United States
END:VEVENT
BEGIN:VEVENT
DTSTART;TZID=America/Chicago:20250520T100000
DTEND;TZID=America/Chicago:20250520T110000
DTSTAMP:20260421T093829
CREATED:20250110T191844Z
LAST-MODIFIED:20250110T191844Z
UID:3440-1747735200-1747738800@northwest-csa.org
SUMMARY:Tai Chi
DESCRIPTION:
URL:https://northwest-csa.org/event/tai-chi-37/
LOCATION:Lew Martin Senior Center\, 1527 Tower Avenue\, Superior\, WI\, 54880\, United States
END:VEVENT
BEGIN:VEVENT
DTSTART;TZID=America/Chicago:20250520T100000
DTEND;TZID=America/Chicago:20250520T110000
DTSTAMP:20260421T093829
CREATED:20250110T191921Z
LAST-MODIFIED:20250110T191921Z
UID:3442-1747735200-1747738800@northwest-csa.org
SUMMARY:Tai Chi
DESCRIPTION:
URL:https://northwest-csa.org/event/tai-chi-38/
LOCATION:Lew Martin Senior Center\, 1527 Tower Avenue\, Superior\, WI\, 54880\, United States
END:VEVENT
BEGIN:VEVENT
DTSTART;TZID=America/Chicago:20250520T140000
DTEND;TZID=America/Chicago:20250520T150000
DTSTAMP:20260421T093829
CREATED:20250109T191930Z
LAST-MODIFIED:20250109T191930Z
UID:3317-1747749600-1747753200@northwest-csa.org
SUMMARY:Free Bingo
DESCRIPTION:Joint Program with the Superior Public Library
URL:https://northwest-csa.org/event/free-bingo-5/
LOCATION:Lew Martin Senior Center\, 1527 Tower Avenue\, Superior\, WI\, 54880\, United States
END:VEVENT
BEGIN:VEVENT
DTSTART;TZID=America/Chicago:20250521T091500
DTEND;TZID=America/Chicago:20250521T100000
DTSTAMP:20260421T093829
CREATED:20250110T203954Z
LAST-MODIFIED:20250110T203954Z
UID:3558-1747818900-1747821600@northwest-csa.org
SUMMARY:Adaptive Chair Exercise
DESCRIPTION:
URL:https://northwest-csa.org/event/adaptive-chair-exercise-86/
LOCATION:Lew Martin Senior Center\, 1527 Tower Avenue\, Superior\, WI\, 54880\, United States
END:VEVENT
BEGIN:VEVENT
DTSTART;TZID=America/Chicago:20250521T123000
DTEND;TZID=America/Chicago:20250521T150000
DTSTAMP:20260421T093829
CREATED:20250109T193502Z
LAST-MODIFIED:20250109T193502Z
UID:3355-1747830600-1747839600@northwest-csa.org
SUMMARY:Movie Wednesdays
DESCRIPTION:
URL:https://northwest-csa.org/event/movie-wednesdays-20/
LOCATION:Lew Martin Senior Center\, 1527 Tower Avenue\, Superior\, WI\, 54880\, United States
END:VEVENT
BEGIN:VEVENT
DTSTART;TZID=America/Chicago:20250522T090000
DTEND;TZID=America/Chicago:20250522T113000
DTSTAMP:20260421T093829
CREATED:20250109T155748Z
LAST-MODIFIED:20250109T185609Z
UID:3235-1747904400-1747913400@northwest-csa.org
SUMMARY:Food Distribution and Commodity Boxes
DESCRIPTION:
URL:https://northwest-csa.org/event/food-distribution-59/
LOCATION:NWCSA Main Office\, 1118 Tower Avenue\, Superior\, WI\, 54880\, United States
END:VEVENT
BEGIN:VEVENT
DTSTART;TZID=America/Chicago:20250522T100000
DTEND;TZID=America/Chicago:20250522T110000
DTSTAMP:20260421T093829
CREATED:20250110T193325Z
LAST-MODIFIED:20250110T193325Z
UID:3482-1747908000-1747911600@northwest-csa.org
SUMMARY:Tai Chi
DESCRIPTION:
URL:https://northwest-csa.org/event/tai-chi-58/
LOCATION:Lew Martin Senior Center\, 1527 Tower Avenue\, Superior\, WI\, 54880\, United States
END:VEVENT
END:VCALENDAR